BEGIN:VCALENDAR
VERSION:2.0
PRODID:-//Beckman Laser Institute - ECPv6.10.0//NONSGML v1.0//EN
CALSCALE:GREGORIAN
METHOD:PUBLISH
X-ORIGINAL-URL:https://bli.uci.edu
X-WR-CALDESC:Events for Beckman Laser Institute
REFRESH-INTERVAL;VALUE=DURATION:PT1H
X-Robots-Tag:noindex
X-PUBLISHED-TTL:PT1H
BEGIN:VTIMEZONE
TZID:America/Los_Angeles
BEGIN:DAYLIGHT
TZOFFSETFROM:-0800
TZOFFSETTO:-0700
TZNAME:PDT
DTSTART:20250309T100000
END:DAYLIGHT
BEGIN:STANDARD
TZOFFSETFROM:-0700
TZOFFSETTO:-0800
TZNAME:PST
DTSTART:20251102T090000
END:STANDARD
END:VTIMEZONE
BEGIN:VEVENT
DTSTART;TZID=America/Los_Angeles:20251120T120000
DTEND;TZID=America/Los_Angeles:20251120T130000
DTSTAMP:20260421T230138
CREATED:20251121T185752Z
LAST-MODIFIED:20251121T185841Z
UID:33668-1763640000-1763643600@bli.uci.edu
SUMMARY:Wei Gao\, PhD
DESCRIPTION:Body-Interfaced Biosensors\nAbstract  \nThe rise of personalized medicine is reshaping traditional healthcare\, enabling predictive analytics and tailored treatment strategies. In this talk\, I will discuss our progress in developing wearable\, implantable\, and ingestible electrochemical biosensors for real-time molecular analysis. These bioelectronic systems autonomously access and sample diverse body fluids—including sweat\, interstitial fluid\, gastrointestinal fluid\, wound exudate\, and exhaled breath condensate—enabling continuous monitoring of key biomarkers such as metabolites\, nutrients\, hormones\, proteins\, and drugs during various activities. To facilitate scalable\, cost-effective manufacturing of these high-performance\, nanomaterial-based sensors\, we employ laser engraving\, inkjet printing\, and 3D printing techniques. The clinical utility of our biosensors is being evaluated in human and animal studies\, focusing on applications such as stress and mental health assessment\, precision nutrition\, chronic disease management\, and personalized drug monitoring. Additionally\, I will highlight our efforts in energy harvesting from both the body and the environment\, opening the door to battery-free\, wireless biosensing technologies. By integrating electrochemical biosensing with advanced bioelectronics\, we aim to revolutionize personalized healthcare\, offering new possibilities for diagnostics\, continuous monitoring\, and therapeutic interventions. \nBiography \nWei Gao is a Professor of Medical Engineering and Heritage Medical Research Institute Investigator at the California Institute of Technology. He earned his Ph.D. from the University of California\, San Diego in 2014\, followed by a postdoctoral fellowship at the University of California\, Berkeley from 2014 to 2017. He is an Associate Editor of Science Advances\, npj Flexible Electronics\, Biosensors and Bioelectronics\, and Sensors & Diagnosis. He is a recipient of NSF Career Award\, ONR Young Investigator Award\, IAMBE Early Career Award\, Sloan Research Fellowship\, Pittcon Achievement Award\, IEEE EMBS Early Career Achievement Award\, IEEE EMBS Technical Achievement Award\, IEEE Sensor Council Technical Achievement Award\, MIT Technology Review 35 Innovators Under 35\, and Falling Walls Breakthrough of the Year in Engineering and Technology. He is a World Economic Forum Young Scientist\, a Highly Cited Researcher (Web of Science). He is an elected Fellow for AIMBE and RSC. His research interests include wearable biosensors\, digital medicine\, bioelectronics\, flexible electronics\, additive manufacturing\, and micro/nanorobotics.\nFor additional information about Gao’s research\, please visit www.gao.caltech.edu. \n  \nREGISTER HERE FOR ZOOM \n  \nClick here to register for in-person attendance (lunch will be served) \n 
URL:https://bli.uci.edu/event/wei-gao-phd/
LOCATION:BLI Library
CATEGORIES:2025 Hybrid Seminar Series,LAMP Seminar
ATTACH;FMTTYPE=image/jpeg:https://bli.uci.edu/wp-content/uploads/2025/11/Wei-Gao-192x192-1.jpg
END:VEVENT
END:VCALENDAR