BEGIN:VCALENDAR
VERSION:2.0
PRODID:-//Beckman Laser Institute - ECPv6.10.0//NONSGML v1.0//EN
CALSCALE:GREGORIAN
METHOD:PUBLISH
X-ORIGINAL-URL:https://bli.uci.edu
X-WR-CALDESC:Events for Beckman Laser Institute
REFRESH-INTERVAL;VALUE=DURATION:PT1H
X-Robots-Tag:noindex
X-PUBLISHED-TTL:PT1H
BEGIN:VTIMEZONE
TZID:America/Los_Angeles
BEGIN:DAYLIGHT
TZOFFSETFROM:-0800
TZOFFSETTO:-0700
TZNAME:PDT
DTSTART:20250309T100000
END:DAYLIGHT
BEGIN:STANDARD
TZOFFSETFROM:-0700
TZOFFSETTO:-0800
TZNAME:PST
DTSTART:20251102T090000
END:STANDARD
END:VTIMEZONE
BEGIN:VEVENT
DTSTART;TZID=America/Los_Angeles:20250121T120000
DTEND;TZID=America/Los_Angeles:20250121T130000
DTSTAMP:20260421T191037
CREATED:20250325T200206Z
LAST-MODIFIED:20250325T212454Z
UID:32916-1737460800-1737464400@bli.uci.edu
SUMMARY:Vasilis Ntziachristos\, M.Sc.\, Ph.D.
DESCRIPTION:From Optical to Optoacoustic Imaging: Technology Advances and Clinical Translation\nAbstract  \nBiological discovery is a driving force of biomedical progress. With rapidly advancing technology to collect and analyze information from cells and tissues\, we generate biomedical knowledge at rates never before attainable to science. Nevertheless\, conversion of this knowledge to patient benefits remains a slow process. To accelerate the process of\nreaching solutions for healthcare\, it would be important to strongly complement this culture of discovery with a culture of problem-solving in healthcare. \nThe talk focuses on recent progress with optical and optoacoustic technologies\, including Multispectral Optoacoustic Tomography (MSOT) and Raster-scan Optoacoustic Mesoscopy (RSOM)\, as well as computational methods\, as the means to opening new paths for solutions in biology and medicine. Particular attention is given on the use of these\ntechnologies for early detection and monitoring of disease evolution. The talk further shows new classes of imaging systems and sensors for assessing biochemical and pathophysiological parameters of systemic diseases\, complement knowledge from –omic analytics and drive integrated solutions for improving healthcare. \nBiography \nProfessor Vasilis Ntziachristos studied electrical engineering at Aristotle University in Thessaloniki. Following his M.Sc. and Ph.D. in the Department of Bioengineering at the University of Pennsylvania\, he was then appointed Assistant Professor and Director of the Laboratory for Bio-Optics and Molecular Imaging at Harvard University and Massachusetts General Hospital. \nSince 2007\, he has served as Professor of Medicine and Electrical Engineering and the Chair of Biological Imaging at the Technical University of Munich and Director of the Institute of Biological and Medical Imaging at Helmholtz Munich. Prof. Ntziachristos is also currently Director of Bioengineering at the Helmholtz Pioneer Campus\, the Head of the Bioengineering Department at Helmholtz Munich\, and Director of the IESL at FORTH. Prof. Ntziachristos is the founder of the journal Photoacoustics\, regularly Chairs in international meetings and councils and has received numerous awards and distinctions\, including the Karl Heinz Beckurts prize (2021)\, the Chaire Blaise Pascal (2019) from the Region Ile-de-France\, the Gold Medal from the Society for Molecular Imaging (2015)\, the Gottfried Leibnitz prize from the German Research Foundation (2013)\, the Erwin Schrödinger Award (2012) and was named one of the world’s top innovators by the Massachusetts Institute of Technology (MIT) Technology Review in 2004. In 2024\, he has been elected as a new member of the German Academy of Sciences Leopoldina. \n  \nREGISTER HERE FOR ZOOM \n  \nClick here to register for in-person attendance (lunch will be served) \n 
URL:https://bli.uci.edu/event/vasilis-ntziachristos/
LOCATION:BLI Library
CATEGORIES:2025 Hybrid Seminar Series,LAMP Seminar
ATTACH;FMTTYPE=image/jpeg:https://bli.uci.edu/wp-content/uploads/2025/03/Professor-Vasilis-Ntziachristos2.jpg
END:VEVENT
END:VCALENDAR